BEGIN:VCALENDAR
VERSION:2.0
PRODID:-//HTA - ECPv5.3.1.1//NONSGML v1.0//EN
CALSCALE:GREGORIAN
METHOD:PUBLISH
X-WR-CALNAME:HTA
X-ORIGINAL-URL:https://hta.doh.gov.ph
X-WR-CALDESC:Events for HTA
BEGIN:VTIMEZONE
TZID:Asia/Shanghai
BEGIN:STANDARD
TZOFFSETFROM:+0800
TZOFFSETTO:+0800
TZNAME:CST
DTSTART:20200101T000000
END:STANDARD
END:VTIMEZONE
BEGIN:VEVENT
DTSTART;TZID=Asia/Shanghai:20201007T170000
DTEND;TZID=Asia/Shanghai:20201007T190000
DTSTAMP:20211023T223733
CREATED:20201006T030807Z
LAST-MODIFIED:20201006T062646Z
UID:3220-1602090000-1602097200@hta.doh.gov.ph
SUMMARY:Sowing the Seeds and Watching them Grow: Implementation and M&E for evidence-led health decisions
DESCRIPTION:HITAP Thailand is hosting a knowledge exchange webinar to discuss how HTA projects and evidence-informed decision making are implemented in the real world and how evidence has been used in the current pandemic outbreak. \nEvent Speakers: \n\nAparna Ananthakrishnan\, HITAP Thailand\nDr. Suwit Wibulpolprasert\, Ministry of Public Health Thailand\nDeepika Adhikari\, Ministry of Health Bhutan\nPempa Pempa\, Ministry of Health Bhutan \nJamaica Briones\, PCV Researcher\, Philippines\nDr. Auliya Suwantika\, Health Economist\, UNPAD Indonesia\nDr. Rukmanee Butchon\, Researcher\, HITAP Thailand\nCecilia Oh\, Access and Delivery Partnership
URL:https://hta.doh.gov.ph/events/sowing-the-seeds-and-watching-them-grow-implementation-and-me-for-evidence-led-health-decisions/
END:VEVENT
END:VCALENDAR