BEGIN:VCALENDAR
VERSION:2.0
PRODID:-//HTA - ECPv5.3.1.1//NONSGML v1.0//EN
CALSCALE:GREGORIAN
METHOD:PUBLISH
X-WR-CALNAME:HTA
X-ORIGINAL-URL:https://hta.doh.gov.ph
X-WR-CALDESC:Events for HTA
BEGIN:VTIMEZONE
TZID:Asia/Shanghai
BEGIN:STANDARD
TZOFFSETFROM:+0800
TZOFFSETTO:+0800
TZNAME:CST
DTSTART:20200101T000000
END:STANDARD
END:VTIMEZONE
BEGIN:VEVENT
DTSTART;TZID=Asia/Shanghai:20201008T160000
DTEND;TZID=Asia/Shanghai:20201008T173000
DTSTAMP:20211023T223800
CREATED:20201006T031527Z
LAST-MODIFIED:20201006T062751Z
UID:3224-1602172800-1602178200@hta.doh.gov.ph
SUMMARY:Public Health in the Time of COVID-19 and the New Normal
DESCRIPTION:
URL:https://hta.doh.gov.ph/events/public-health-in-the-time-of-covid-19-and-the-new-normal/
END:VEVENT
END:VCALENDAR