BEGIN:VCALENDAR
VERSION:2.0
PRODID:-//HTA - ECPv5.3.1.1//NONSGML v1.0//EN
CALSCALE:GREGORIAN
METHOD:PUBLISH
X-WR-CALNAME:HTA
X-ORIGINAL-URL:https://hta.doh.gov.ph
X-WR-CALDESC:Events for HTA
BEGIN:VTIMEZONE
TZID:Asia/Manila
BEGIN:STANDARD
TZOFFSETFROM:+0800
TZOFFSETTO:+0800
TZNAME:PST
DTSTART:20200101T000000
END:STANDARD
END:VTIMEZONE
BEGIN:VEVENT
DTSTART;TZID=Asia/Manila:20201209T090000
DTEND;TZID=Asia/Manila:20201209T110000
DTSTAMP:20210527T170218
CREATED:20201120T100226Z
LAST-MODIFIED:20201121T070942Z
UID:3631-1607504400-1607511600@hta.doh.gov.ph
SUMMARY:Health Technology Assessment 101: Moving Towards Universal Healthcare Session 2
DESCRIPTION:Health Technology Assessment (HTA) Philippines is excited to present a series of webinars on Administrative Order 2020-0041 and its annexes\, the Philippine HTA Process and Methods Guides. \n  \nWe’re pleased to invite stakeholders to attend our webinars and learn more about how you can participate in HTA. \n  \nSpeakers from the Department of Health\, the HTA Council\, and the HTA Unit will present how HTA has empowered us to make decisions that bring us closer to achieving universal health care.
URL:https://hta.doh.gov.ph/events/health-technology-assessment-101-moving-towards-universal-healthcare-session-2/
ORGANIZER;CN="Health%20Technology%20Assessment%20Unit%20%28HTAU%29":MAILTO:hta.philippines@gmail.com
END:VEVENT
END:VCALENDAR