BEGIN:VCALENDAR
VERSION:2.0
PRODID:-//HTA - ECPv5.3.1.1//NONSGML v1.0//EN
CALSCALE:GREGORIAN
METHOD:PUBLISH
X-WR-CALNAME:HTA
X-ORIGINAL-URL:https://hta.doh.gov.ph
X-WR-CALDESC:Events for HTA
BEGIN:VTIMEZONE
TZID:Asia/Manila
BEGIN:STANDARD
TZOFFSETFROM:+0800
TZOFFSETTO:+0800
TZNAME:PST
DTSTART:20200101T000000
END:STANDARD
END:VTIMEZONE
BEGIN:VEVENT
DTSTART;TZID=Asia/Manila:20201125T163000
DTEND;TZID=Asia/Manila:20201125T183000
DTSTAMP:20211023T223942
CREATED:20201106T030353Z
LAST-MODIFIED:20201106T030353Z
UID:3504-1606321800-1606329000@hta.doh.gov.ph
SUMMARY:Development of commercial negotiations and managed access agreements
DESCRIPTION:
URL:https://hta.doh.gov.ph/events/development-of-commercial-negotiations-and-managed-access-agreements/
END:VEVENT
END:VCALENDAR