BEGIN:VCALENDAR
VERSION:2.0
PRODID:-//HTA - ECPv5.3.1.1//NONSGML v1.0//EN
CALSCALE:GREGORIAN
METHOD:PUBLISH
X-WR-CALNAME:HTA
X-ORIGINAL-URL:https://hta.doh.gov.ph
X-WR-CALDESC:Events for HTA
BEGIN:VTIMEZONE
TZID:Asia/Shanghai
BEGIN:STANDARD
TZOFFSETFROM:+0800
TZOFFSETTO:+0800
TZNAME:CST
DTSTART:20200101T000000
END:STANDARD
END:VTIMEZONE
BEGIN:VEVENT
DTSTART;TZID=Asia/Shanghai:20201007T153000
DTEND;TZID=Asia/Shanghai:20201007T173000
DTSTAMP:20211023T223705
CREATED:20201006T024504Z
LAST-MODIFIED:20201006T062849Z
UID:3212-1602084600-1602091800@hta.doh.gov.ph
SUMMARY:Better Health Programme Webinar Series Session 2
DESCRIPTION:NICE International is hosting a workshop on behalf of the Better Health Programme (BHP) work in the Philippines.  \n  \nSession 2 will focus on NICE methods for technology appraisal\, as well as the methods of conduct in indirect treatment comparisons. \n  \nEvent Speakers: \n\nPilar Pinilla-Dominguez\, Principal Scientific Adviser\, NICE International\nDr. Eli Gajraj\, Principal Technical Adviser\, NICE Scientific Advice\nDeborah Lee\, Senior Project Manager\, NICE International\nLaura Worthington\, Assistant Project Manager\, NICE Scientific Advice\nProf. Nicky Welton\, Professor of Statistical and Health Economic Modelling\, University of Bristol\nDr. David Phillippo\, Senior Research Associate in Evidence Synthesis\, University of Bristol
URL:https://hta.doh.gov.ph/events/better-health-programme-webinar-series-2nd-session/
END:VEVENT
END:VCALENDAR