BEGIN:VCALENDAR
VERSION:2.0
PRODID:-//HTA - ECPv5.3.1.1//NONSGML v1.0//EN
CALSCALE:GREGORIAN
METHOD:PUBLISH
X-WR-CALNAME:HTA
X-ORIGINAL-URL:https://hta.doh.gov.ph
X-WR-CALDESC:Events for HTA
BEGIN:VTIMEZONE
TZID:Asia/Manila
BEGIN:STANDARD
TZOFFSETFROM:+0800
TZOFFSETTO:+0800
TZNAME:PST
DTSTART:20200101T000000
END:STANDARD
END:VTIMEZONE
BEGIN:VEVENT
DTSTART;TZID=Asia/Manila:20201113T130000
DTEND;TZID=Asia/Manila:20201113T170000
DTSTAMP:20211023T223916
CREATED:20201106T030212Z
LAST-MODIFIED:20201106T030212Z
UID:3502-1605272400-1605286800@hta.doh.gov.ph
SUMMARY:23rd HTAC Meeting
DESCRIPTION:
URL:https://hta.doh.gov.ph/events/23rd-htac-meeting/
LOCATION:Zoom Teleconference\, Philippines
ORGANIZER;CN="Health%20Technology%20Assessment%20Unit%20%28HTAU%29":MAILTO:hta.philippines@gmail.com
END:VEVENT
END:VCALENDAR